BEGIN:VCALENDAR
VERSION:2.0
PRODID:icalendar-ruby
CALSCALE:GREGORIAN
METHOD:PUBLISH
BEGIN:VEVENT
DTSTAMP:20260423T024956Z
UID:36-1044787@centraliabbc.org
DTSTART:20260518T003000Z
DTEND:20260518T014500Z
CLASS:PUBLIC
CREATED:20260422T154325
DESCRIPTION:
LAST-MODIFIED:20260422T154325
LOCATION:
SUMMARY:Preaching and Pie
URL;VALUE=URI:https://www.centraliabbc.org/events/preaching-and-pie--36/202
 6-05-17
ATTACH;FILENAME=PreachingAndPie_05_2026.jpg;FMTTYPE=image/jpeg:https://dq5p
 wpg1q8ru0.cloudfront.net/2026/04/22/22/43/25/a2e20d49-c422-4dcc-a6fb-ff3b0
 9a75271/PreachingAndPie_05_2026.jpg
END:VEVENT
END:VCALENDAR
