BEGIN:VCALENDAR
VERSION:2.0
PRODID:icalendar-ruby
CALSCALE:GREGORIAN
METHOD:PUBLISH
BEGIN:VEVENT
DTSTAMP:20260425T152445Z
UID:7-1054360@centraliabbc.org
DTSTART:20250505T003000Z
DTEND:20250505T013000Z
CLASS:PUBLIC
CREATED:20260425T071638
DESCRIPTION:Evening Prayer
LAST-MODIFIED:20260425T071638
LOCATION:
SUMMARY:Evening Service
URL;VALUE=URI:https://www.centraliabbc.org/events/evening-service/2025-05-0
 4
END:VEVENT
END:VCALENDAR
