BEGIN:VCALENDAR
VERSION:2.0
PRODID:icalendar-ruby
CALSCALE:GREGORIAN
METHOD:PUBLISH
BEGIN:VEVENT
DTSTAMP:20260425T134721Z
UID:7-1053743@centraliabbc.org
DTSTART:20250428T003000Z
DTEND:20250428T013000Z
CLASS:PUBLIC
CREATED:20260425T043519
DESCRIPTION:Evening Prayer
LAST-MODIFIED:20260425T043519
LOCATION:
SUMMARY:Evening Service
URL;VALUE=URI:https://www.centraliabbc.org/events/evening-service/2025-04-2
 7
END:VEVENT
END:VCALENDAR
