BEGIN:VCALENDAR
VERSION:2.0
PRODID:icalendar-ruby
CALSCALE:GREGORIAN
METHOD:PUBLISH
BEGIN:VEVENT
DTSTAMP:20260425T105053Z
UID:7-1053125@centraliabbc.org
DTSTART:20250414T003000Z
DTEND:20250414T013000Z
CLASS:PUBLIC
CREATED:20260424T184845
DESCRIPTION:Evening Prayer
LAST-MODIFIED:20260424T184845
LOCATION:
SUMMARY:Evening Service
URL;VALUE=URI:https://www.centraliabbc.org/events/evening-service/2025-04-1
 3
END:VEVENT
END:VCALENDAR
