BEGIN:VCALENDAR
VERSION:2.0
PRODID:icalendar-ruby
CALSCALE:GREGORIAN
METHOD:PUBLISH
BEGIN:VEVENT
DTSTAMP:20260424T233527Z
UID:7-1052500@centraliabbc.org
DTSTART:20250210T013000Z
DTEND:20250210T023000Z
CLASS:PUBLIC
CREATED:20260424T160003
DESCRIPTION:Evening Prayer
LAST-MODIFIED:20260424T160003
LOCATION:
SUMMARY:Evening Service
URL;VALUE=URI:https://www.centraliabbc.org/events/evening-service/2025-02-0
 9
END:VEVENT
END:VCALENDAR
