BEGIN:VCALENDAR
VERSION:2.0
PRODID:icalendar-ruby
CALSCALE:GREGORIAN
METHOD:PUBLISH
BEGIN:VEVENT
DTSTAMP:20260424T221516Z
UID:7-1051883@centraliabbc.org
DTSTART:20250203T013000Z
DTEND:20250203T023000Z
CLASS:PUBLIC
CREATED:20260424T131214
DESCRIPTION:Evening Prayer
LAST-MODIFIED:20260424T131214
LOCATION:
SUMMARY:Evening Service
URL;VALUE=URI:https://www.centraliabbc.org/events/evening-service/2025-02-0
 2
END:VEVENT
END:VCALENDAR
