BEGIN:VCALENDAR
VERSION:2.0
PRODID:icalendar-ruby
CALSCALE:GREGORIAN
METHOD:PUBLISH
BEGIN:VEVENT
DTSTAMP:20260424T193945Z
UID:7-1051265@centraliabbc.org
DTSTART:20250120T013000Z
DTEND:20250120T023000Z
CLASS:PUBLIC
CREATED:20260424T102522
DESCRIPTION:Evening Prayer
LAST-MODIFIED:20260424T102522
LOCATION:
SUMMARY:Evening Service
URL;VALUE=URI:https://www.centraliabbc.org/events/evening-service/2025-01-1
 9
END:VEVENT
END:VCALENDAR
