BEGIN:VCALENDAR
VERSION:2.0
PRODID:icalendar-ruby
CALSCALE:GREGORIAN
METHOD:PUBLISH
BEGIN:VEVENT
DTSTAMP:20260424T183921Z
UID:7-1051264@centraliabbc.org
DTSTART:20250113T013000Z
DTEND:20250113T023000Z
CLASS:PUBLIC
CREATED:20260424T102522
DESCRIPTION:Evening Prayer
LAST-MODIFIED:20260424T102522
LOCATION:
SUMMARY:Evening Service
URL;VALUE=URI:https://www.centraliabbc.org/events/evening-service/2025-01-1
 2
END:VEVENT
END:VCALENDAR
