BEGIN:VCALENDAR
VERSION:2.0
PRODID:icalendar-ruby
CALSCALE:GREGORIAN
METHOD:PUBLISH
BEGIN:VEVENT
DTSTAMP:20260424T163100Z
UID:7-1050646@centraliabbc.org
DTSTART:20241230T013000Z
DTEND:20241230T023000Z
CLASS:PUBLIC
CREATED:20260424T073733
DESCRIPTION:Evening Prayer
LAST-MODIFIED:20260424T073733
LOCATION:
SUMMARY:Evening Service
URL;VALUE=URI:https://www.centraliabbc.org/events/evening-service/2024-12-2
 9
END:VEVENT
END:VCALENDAR
