BEGIN:VCALENDAR
VERSION:2.0
PRODID:icalendar-ruby
CALSCALE:GREGORIAN
METHOD:PUBLISH
BEGIN:VEVENT
DTSTAMP:20260423T215727Z
UID:7-1048180@centraliabbc.org
DTSTART:20241216T013000Z
DTEND:20241216T023000Z
CLASS:PUBLIC
CREATED:20260423T132804
DESCRIPTION:Evening Prayer
LAST-MODIFIED:20260423T132804
LOCATION:
SUMMARY:Evening Service
URL;VALUE=URI:https://www.centraliabbc.org/events/evening-service/2024-12-1
 5
END:VEVENT
END:VCALENDAR
