BEGIN:VCALENDAR
VERSION:2.0
PRODID:icalendar-ruby
CALSCALE:GREGORIAN
METHOD:PUBLISH
BEGIN:VEVENT
DTSTAMP:20260423T185954Z
UID:7-1047562@centraliabbc.org
DTSTART:20241202T013000Z
DTEND:20241202T023000Z
CLASS:PUBLIC
CREATED:20260423T103209
DESCRIPTION:Evening Prayer
LAST-MODIFIED:20260423T103209
LOCATION:
SUMMARY:Evening Service
URL;VALUE=URI:https://www.centraliabbc.org/events/evening-service/2024-12-0
 1
END:VEVENT
END:VCALENDAR
