BEGIN:VCALENDAR
VERSION:2.0
PRODID:icalendar-ruby
CALSCALE:GREGORIAN
METHOD:PUBLISH
BEGIN:VEVENT
DTSTAMP:20260423T160723Z
UID:7-1046944@centraliabbc.org
DTSTART:20241118T013000Z
DTEND:20241118T023000Z
CLASS:PUBLIC
CREATED:20260423T073650
DESCRIPTION:Evening Prayer
LAST-MODIFIED:20260423T073650
LOCATION:
SUMMARY:Evening Service
URL;VALUE=URI:https://www.centraliabbc.org/events/evening-service/2024-11-1
 7
END:VEVENT
END:VCALENDAR
