BEGIN:VCALENDAR
VERSION:2.0
PRODID:icalendar-ruby
CALSCALE:GREGORIAN
METHOD:PUBLISH
BEGIN:VEVENT
DTSTAMP:20260423T144527Z
UID:7-1046943@centraliabbc.org
DTSTART:20241111T013000Z
DTEND:20241111T023000Z
CLASS:PUBLIC
CREATED:20260423T073650
DESCRIPTION:Evening Prayer
LAST-MODIFIED:20260423T073650
LOCATION:
SUMMARY:Evening Service
URL;VALUE=URI:https://www.centraliabbc.org/events/evening-service/2024-11-1
 0
END:VEVENT
END:VCALENDAR
