BEGIN:VCALENDAR
VERSION:2.0
PRODID:icalendar-ruby
CALSCALE:GREGORIAN
METHOD:PUBLISH
BEGIN:VEVENT
DTSTAMP:20260423T132617Z
UID:7-1046325@centraliabbc.org
DTSTART:20241104T013000Z
DTEND:20241104T023000Z
CLASS:PUBLIC
CREATED:20260423T044324
DESCRIPTION:Evening Prayer
LAST-MODIFIED:20260423T044324
LOCATION:
SUMMARY:Evening Service
URL;VALUE=URI:https://www.centraliabbc.org/events/evening-service/2024-11-0
 3
END:VEVENT
END:VCALENDAR
