BEGIN:VCALENDAR
VERSION:2.0
PRODID:icalendar-ruby
CALSCALE:GREGORIAN
METHOD:PUBLISH
BEGIN:VEVENT
DTSTAMP:20260423T120047Z
UID:7-1046324@centraliabbc.org
DTSTART:20241028T003000Z
DTEND:20241028T013000Z
CLASS:PUBLIC
CREATED:20260423T044324
DESCRIPTION:Evening Prayer
LAST-MODIFIED:20260423T044324
LOCATION:
SUMMARY:Evening Service
URL;VALUE=URI:https://www.centraliabbc.org/events/evening-service/2024-10-2
 7
END:VEVENT
END:VCALENDAR
