BEGIN:VCALENDAR
VERSION:2.0
PRODID:icalendar-ruby
CALSCALE:GREGORIAN
METHOD:PUBLISH
BEGIN:VEVENT
DTSTAMP:20260423T104047Z
UID:7-1045707@centraliabbc.org
DTSTART:20241021T003000Z
DTEND:20241021T013000Z
CLASS:PUBLIC
CREATED:20260422T191334
DESCRIPTION:Evening Prayer
LAST-MODIFIED:20260422T191334
LOCATION:
SUMMARY:Evening Service
URL;VALUE=URI:https://www.centraliabbc.org/events/evening-service/2024-10-2
 0
END:VEVENT
END:VCALENDAR
