BEGIN:VCALENDAR
VERSION:2.0
PRODID:icalendar-ruby
CALSCALE:GREGORIAN
METHOD:PUBLISH
BEGIN:VEVENT
DTSTAMP:20260423T055925Z
UID:7-1045704@centraliabbc.org
DTSTART:20240930T003000Z
DTEND:20240930T013000Z
CLASS:PUBLIC
CREATED:20260422T191334
DESCRIPTION:Evening Prayer
LAST-MODIFIED:20260422T191334
LOCATION:
SUMMARY:Evening Service
URL;VALUE=URI:https://www.centraliabbc.org/events/evening-service/2024-09-2
 9
END:VEVENT
END:VCALENDAR
