BEGIN:VCALENDAR
VERSION:2.0
PRODID:icalendar-ruby
CALSCALE:GREGORIAN
METHOD:PUBLISH
BEGIN:VEVENT
DTSTAMP:20260423T012040Z
UID:7-1045086@centraliabbc.org
DTSTART:20240909T003000Z
DTEND:20240909T013000Z
CLASS:PUBLIC
CREATED:20260422T162025
DESCRIPTION:Evening Prayer
LAST-MODIFIED:20260422T162025
LOCATION:
SUMMARY:Evening Service
URL;VALUE=URI:https://www.centraliabbc.org/events/evening-service/2024-09-0
 8
END:VEVENT
END:VCALENDAR
