BEGIN:VCALENDAR
VERSION:2.0
PRODID:icalendar-ruby
CALSCALE:GREGORIAN
METHOD:PUBLISH
BEGIN:VEVENT
DTSTAMP:20260422T223142Z
UID:7-1044467@centraliabbc.org
DTSTART:20240826T003000Z
DTEND:20240826T013000Z
CLASS:PUBLIC
CREATED:20260422T132750
DESCRIPTION:Evening Prayer
LAST-MODIFIED:20260422T132750
LOCATION:
SUMMARY:Evening Service
URL;VALUE=URI:https://www.centraliabbc.org/events/evening-service/2024-08-2
 5
END:VEVENT
END:VCALENDAR
