BEGIN:VCALENDAR
VERSION:2.0
PRODID:icalendar-ruby
CALSCALE:GREGORIAN
METHOD:PUBLISH
BEGIN:VEVENT
DTSTAMP:20260424T172249Z
UID:7-1050627@centraliabbc.org
DTSTART:20240819T003000Z
DTEND:20240819T013000Z
CLASS:PUBLIC
CREATED:20260424T073733
DESCRIPTION:Evening Prayer
LAST-MODIFIED:20260424T073733
LOCATION:
SUMMARY:Evening Service
URL;VALUE=URI:https://www.centraliabbc.org/events/evening-service/2024-08-1
 8
END:VEVENT
END:VCALENDAR
