BEGIN:VCALENDAR
VERSION:2.0
PRODID:icalendar-ruby
CALSCALE:GREGORIAN
METHOD:PUBLISH
BEGIN:VEVENT
DTSTAMP:20260422T194845Z
UID:7-1043850@centraliabbc.org
DTSTART:20240812T003000Z
DTEND:20240812T013000Z
CLASS:PUBLIC
CREATED:20260422T103251
DESCRIPTION:Evening Prayer
LAST-MODIFIED:20260422T103251
LOCATION:
SUMMARY:Evening Service
URL;VALUE=URI:https://www.centraliabbc.org/events/evening-service/2024-08-1
 1
END:VEVENT
END:VCALENDAR
