BEGIN:VCALENDAR
VERSION:2.0
PRODID:icalendar-ruby
CALSCALE:GREGORIAN
METHOD:PUBLISH
BEGIN:VEVENT
DTSTAMP:20260422T170316Z
UID:7-1043233@centraliabbc.org
DTSTART:20240729T003000Z
DTEND:20240729T013000Z
CLASS:PUBLIC
CREATED:20260422T073732
DESCRIPTION:Evening Prayer
LAST-MODIFIED:20260422T073732
LOCATION:
SUMMARY:Evening Service
URL;VALUE=URI:https://www.centraliabbc.org/events/evening-service/2024-07-2
 8
END:VEVENT
END:VCALENDAR
