BEGIN:VCALENDAR
VERSION:2.0
PRODID:icalendar-ruby
CALSCALE:GREGORIAN
METHOD:PUBLISH
BEGIN:VEVENT
DTSTAMP:20260422T140349Z
UID:7-1042616@centraliabbc.org
DTSTART:20240715T003000Z
DTEND:20240715T013000Z
CLASS:PUBLIC
CREATED:20260422T044237
DESCRIPTION:Evening Prayer
LAST-MODIFIED:20260422T044237
LOCATION:
SUMMARY:Evening Service
URL;VALUE=URI:https://www.centraliabbc.org/events/evening-service/2024-07-1
 4
END:VEVENT
END:VCALENDAR
