BEGIN:VCALENDAR
VERSION:2.0
PRODID:icalendar-ruby
CALSCALE:GREGORIAN
METHOD:PUBLISH
BEGIN:VEVENT
DTSTAMP:20260422T123341Z
UID:7-1042615@centraliabbc.org
DTSTART:20240708T003000Z
DTEND:20240708T013000Z
CLASS:PUBLIC
CREATED:20260422T044237
DESCRIPTION:Evening Prayer
LAST-MODIFIED:20260422T044237
LOCATION:
SUMMARY:Evening Service
URL;VALUE=URI:https://www.centraliabbc.org/events/evening-service/2024-07-0
 7
END:VEVENT
END:VCALENDAR
