BEGIN:VCALENDAR
VERSION:2.0
PRODID:icalendar-ruby
CALSCALE:GREGORIAN
METHOD:PUBLISH
BEGIN:VEVENT
DTSTAMP:20260422T110637Z
UID:7-1041999@centraliabbc.org
DTSTART:20240701T003000Z
DTEND:20240701T013000Z
CLASS:PUBLIC
CREATED:20260421T173943
DESCRIPTION:Evening Prayer
LAST-MODIFIED:20260421T173943
LOCATION:
SUMMARY:Evening Service
URL;VALUE=URI:https://www.centraliabbc.org/events/evening-service/2024-06-3
 0
END:VEVENT
END:VCALENDAR
