BEGIN:VCALENDAR
VERSION:2.0
PRODID:icalendar-ruby
CALSCALE:GREGORIAN
METHOD:PUBLISH
BEGIN:VEVENT
DTSTAMP:20260422T053039Z
UID:7-1041995@centraliabbc.org
DTSTART:20240603T003000Z
DTEND:20240603T013000Z
CLASS:PUBLIC
CREATED:20260421T173943
DESCRIPTION:Evening Prayer
LAST-MODIFIED:20260421T173943
LOCATION:
SUMMARY:Evening Service
URL;VALUE=URI:https://www.centraliabbc.org/events/evening-service/2024-06-0
 2
END:VEVENT
END:VCALENDAR
