BEGIN:VCALENDAR
VERSION:2.0
PRODID:icalendar-ruby
CALSCALE:GREGORIAN
METHOD:PUBLISH
BEGIN:VEVENT
DTSTAMP:20260421T233151Z
UID:7-1041376@centraliabbc.org
DTSTART:20240506T003000Z
DTEND:20240506T013000Z
CLASS:PUBLIC
CREATED:20260421T150102
DESCRIPTION:Evening Prayer
LAST-MODIFIED:20260421T150102
LOCATION:
SUMMARY:Evening Service
URL;VALUE=URI:https://www.centraliabbc.org/events/evening-service/2024-05-0
 5
END:VEVENT
END:VCALENDAR
