BEGIN:VCALENDAR
VERSION:2.0
PRODID:icalendar-ruby
CALSCALE:GREGORIAN
METHOD:PUBLISH
BEGIN:VEVENT
DTSTAMP:20260421T220343Z
UID:7-1041375@centraliabbc.org
DTSTART:20240429T003000Z
DTEND:20240429T013000Z
CLASS:PUBLIC
CREATED:20260421T150102
DESCRIPTION:Evening Prayer
LAST-MODIFIED:20260421T150102
LOCATION:
SUMMARY:Evening Service
URL;VALUE=URI:https://www.centraliabbc.org/events/evening-service/2024-04-2
 8
END:VEVENT
END:VCALENDAR
