BEGIN:VCALENDAR
VERSION:2.0
PRODID:icalendar-ruby
CALSCALE:GREGORIAN
METHOD:PUBLISH
BEGIN:VEVENT
DTSTAMP:20260421T194005Z
UID:7-1040758@centraliabbc.org
DTSTART:20240415T003000Z
DTEND:20240415T013000Z
CLASS:PUBLIC
CREATED:20260421T122340
DESCRIPTION:Evening Prayer
LAST-MODIFIED:20260421T122340
LOCATION:
SUMMARY:Evening Service
URL;VALUE=URI:https://www.centraliabbc.org/events/evening-service/2024-04-1
 4
END:VEVENT
END:VCALENDAR
