BEGIN:VCALENDAR
VERSION:2.0
PRODID:icalendar-ruby
CALSCALE:GREGORIAN
METHOD:PUBLISH
BEGIN:VEVENT
DTSTAMP:20260421T181937Z
UID:7-1040142@centraliabbc.org
DTSTART:20240408T003000Z
DTEND:20240408T013000Z
CLASS:PUBLIC
CREATED:20260421T094614
DESCRIPTION:Evening Prayer
LAST-MODIFIED:20260421T094614
LOCATION:
SUMMARY:Evening Service
URL;VALUE=URI:https://www.centraliabbc.org/events/evening-service/2024-04-0
 7
END:VEVENT
END:VCALENDAR
