BEGIN:VCALENDAR
VERSION:2.0
PRODID:icalendar-ruby
CALSCALE:GREGORIAN
METHOD:PUBLISH
BEGIN:VEVENT
DTSTAMP:20260421T171117Z
UID:7-1040141@centraliabbc.org
DTSTART:20240401T003000Z
DTEND:20240401T013000Z
CLASS:PUBLIC
CREATED:20260421T094614
DESCRIPTION:Evening Prayer
LAST-MODIFIED:20260421T094614
LOCATION:
SUMMARY:Evening Service
URL;VALUE=URI:https://www.centraliabbc.org/events/evening-service/2024-03-3
 1
END:VEVENT
END:VCALENDAR
