BEGIN:VCALENDAR
VERSION:2.0
PRODID:icalendar-ruby
CALSCALE:GREGORIAN
METHOD:PUBLISH
BEGIN:VEVENT
DTSTAMP:20260421T141903Z
UID:7-1039524@centraliabbc.org
DTSTART:20240318T003000Z
DTEND:20240318T013000Z
CLASS:PUBLIC
CREATED:20260421T070747
DESCRIPTION:Evening Prayer
LAST-MODIFIED:20260421T070747
LOCATION:
SUMMARY:Evening Service
URL;VALUE=URI:https://www.centraliabbc.org/events/evening-service/2024-03-1
 7
END:VEVENT
END:VCALENDAR
