BEGIN:VCALENDAR
VERSION:2.0
PRODID:icalendar-ruby
CALSCALE:GREGORIAN
METHOD:PUBLISH
BEGIN:VEVENT
DTSTAMP:20260421T125349Z
UID:7-1038908@centraliabbc.org
DTSTART:20240311T003000Z
DTEND:20240311T013000Z
CLASS:PUBLIC
CREATED:20260421T043208
DESCRIPTION:Evening Prayer
LAST-MODIFIED:20260421T043208
LOCATION:
SUMMARY:Evening Service
URL;VALUE=URI:https://www.centraliabbc.org/events/evening-service/2024-03-1
 0
END:VEVENT
END:VCALENDAR
