BEGIN:VCALENDAR
VERSION:2.0
PRODID:icalendar-ruby
CALSCALE:GREGORIAN
METHOD:PUBLISH
BEGIN:VEVENT
DTSTAMP:20260421T113230Z
UID:7-1038907@centraliabbc.org
DTSTART:20240304T013000Z
DTEND:20240304T023000Z
CLASS:PUBLIC
CREATED:20260421T043208
DESCRIPTION:Evening Prayer
LAST-MODIFIED:20260421T043208
LOCATION:
SUMMARY:Evening Service
URL;VALUE=URI:https://www.centraliabbc.org/events/evening-service/2024-03-0
 3
END:VEVENT
END:VCALENDAR
