BEGIN:VCALENDAR
VERSION:2.0
PRODID:icalendar-ruby
CALSCALE:GREGORIAN
METHOD:PUBLISH
BEGIN:VEVENT
DTSTAMP:20260421T095448Z
UID:7-1038291@centraliabbc.org
DTSTART:20240226T013000Z
DTEND:20240226T023000Z
CLASS:PUBLIC
CREATED:20260420T172542
DESCRIPTION:Evening Prayer
LAST-MODIFIED:20260420T172542
LOCATION:
SUMMARY:Evening Service
URL;VALUE=URI:https://www.centraliabbc.org/events/evening-service/2024-02-2
 5
END:VEVENT
END:VCALENDAR
