BEGIN:VCALENDAR
VERSION:2.0
PRODID:icalendar-ruby
CALSCALE:GREGORIAN
METHOD:PUBLISH
BEGIN:VEVENT
DTSTAMP:20260419T130816Z
UID:7-1031528@centraliabbc.org
DTSTART:20240219T013000Z
DTEND:20240219T023000Z
CLASS:PUBLIC
CREATED:20260419T051122
DESCRIPTION:Evening Prayer
LAST-MODIFIED:20260419T051122
LOCATION:
SUMMARY:Evening Service
URL;VALUE=URI:https://www.centraliabbc.org/events/evening-service/2024-02-1
 8
END:VEVENT
END:VCALENDAR
